BEGIN:VCALENDAR
VERSION:2.0
PRODID:-//Tukios.com/
BEGIN:VEVENT
UID:99cb488b-7b97-4e44-b87e-abb735960704@www.cliffordshoemaker.com
DTSTAMP:20260425T003338Z
DTSTART:20260501T210000Z
DTEND:20260501T230000Z
SUMMARY:Visitation
DESCRIPTION:
URL:https://www.cliffordshoemaker.com/obituaries/beverly-perkins
LOCATION:Clifford-Shoemaker Funeral Home 1930 Front St  Cuyahoga Falls OH 
	44221
GEO:41.1330175;-81.4835901
END:VEVENT
END:VCALENDAR