BEGIN:VCALENDAR
VERSION:2.0
PRODID:-//Tukios.com/
BEGIN:VEVENT
UID:8e5e0b04-5b06-4cf5-9702-0161dac0b3d1@www.cliffordshoemaker.com
DTSTAMP:20260425T002830Z
DTSTART:20260502T170000Z
DTEND:20260502T180000Z
SUMMARY:Memorial Service
DESCRIPTION:
URL:https://www.cliffordshoemaker.com/obituaries/beverly-perkins
LOCATION:Clifford-Shoemaker Funeral Home 1930 Front St  Cuyahoga Falls OH 
	44221
GEO:41.1330175;-81.4835901
END:VEVENT
END:VCALENDAR