BEGIN:VCALENDAR
VERSION:2.0
PRODID:-//Tukios.com/
BEGIN:VEVENT
UID:1cb17537-51e2-41c9-be69-c403c478a04a@www.cliffordshoemaker.com
DTSTAMP:20260421T230513Z
DTSTART:20260430T200000Z
DTEND:20260430T220000Z
SUMMARY:Visitation
DESCRIPTION:
URL:https://www.cliffordshoemaker.com/obituaries/elena-diegidio-mcgall
LOCATION: 1930 Front Street  Cuyahoga Falls OH 44221
GEO:41.1330175;-81.4835901
END:VEVENT
END:VCALENDAR