BEGIN:VCALENDAR
VERSION:2.0
PRODID:-//Tukios.com/
BEGIN:VEVENT
UID:7a81888e-8c9b-43ef-ba8c-a117a46d75ff@www.cliffordshoemaker.com
DTSTAMP:20260421T225749Z
DTSTART:20260501T150000Z
DTEND:20260501T160000Z
SUMMARY:Celebration of Life
DESCRIPTION:
URL:https://www.cliffordshoemaker.com/obituaries/elena-diegidio-mcgall
LOCATION: 1930 Front Street  Cuyahoga Falls OH 44221
GEO:41.1330175;-81.4835901
END:VEVENT
END:VCALENDAR