BEGIN:VCALENDAR
VERSION:2.0
PRODID:-//Tukios.com/
BEGIN:VEVENT
UID:531f09d2-2ba2-41f0-a654-b1df22ab5417@www.cliffordshoemaker.com
DTSTAMP:20260421T225733Z
DTSTART:20260501T170000Z
DTEND:20260501T180000Z
SUMMARY:Burial
DESCRIPTION:
URL:https://www.cliffordshoemaker.com/obituaries/elena-diegidio-mcgall
LOCATION:All Saints Cemetery 480 W Highland Rd  Northfield OH 44067
GEO:41.2920428;-81.5359983
END:VEVENT
END:VCALENDAR