BEGIN:VCALENDAR
VERSION:2.0
PRODID:-//Tukios.com/
BEGIN:VEVENT
UID:d8810e3c-2567-41f6-9544-1eca751dd24c@www.cliffordshoemaker.com
DTSTAMP:20260421T174506Z
DTSTART:20260502T143000Z
DTEND:20260502T153000Z
SUMMARY:Memorial Service
DESCRIPTION:
URL:https://www.cliffordshoemaker.com/obituaries/judith-minier
LOCATION:Danbury Senior Living 1695 Queens Gate Circle  Cuyahoga Falls OH 
	44221
GEO:41.1241263;-81.4576313
END:VEVENT
END:VCALENDAR